BEGIN:VCALENDAR
VERSION:2.0
PRODID:icalendar-ruby
CALSCALE:GREGORIAN
METHOD:PUBLISH
BEGIN:VEVENT
DTSTAMP:20260425T164341Z
UID:1031-22316@sfdsschool.ca
DTSTART:20260429T160000Z
DTEND:20260429T170000Z
CLASS:PUBLIC
CREATED:20260423T112616
DESCRIPTION:Congratulations to our senior girls who advance to the playoffs
  - CISVA BIG EIGHT TOURNAMENT!\nAll games in Round 1 start at 9:40 precise
 ly.\nAll games in Round 2 start at 12:00.\nAll games in the Final Placemen
 t Round start at 2:30.\nGood luck SFDS Flames\, and THANK YOU to our paren
 t coaches!
LAST-MODIFIED:20260423T112616
LOCATION:Burnaby Lake West
SUMMARY:Senior Girls Soccer Playoffs
URL;VALUE=URI:https://www.sfdsschool.ca/events/senior-girls-soccer-playoffs
 /2026-04-29
END:VEVENT
END:VCALENDAR
