BEGIN:VCALENDAR
VERSION:2.0
PRODID:icalendar-ruby
CALSCALE:GREGORIAN
METHOD:PUBLISH
BEGIN:VEVENT
DTSTAMP:20260425T162532Z
UID:1019-22286@sfdsschool.ca
DTSTART;VALUE=DATE:20260428
DTEND;VALUE=DATE:20260428
CLASS:PUBLIC
CREATED:20260314T130339
DESCRIPTION:
LAST-MODIFIED:20260314T130339
LOCATION:Britannia Mine Museum
SUMMARY:Grade 4 and 5 Field Trip
URL;VALUE=URI:https://www.sfdsschool.ca/events/grade-4-and-5-field-trip--10
 19/2026-04-28
ATTACH;FILENAME=IMG_1407.jpeg;FMTTYPE=image/jpeg:https://dq5pwpg1q8ru0.clou
 dfront.net/2026/03/14/20/03/39/43e837e5-8be5-4e56-92cf-b309e2a3ec56/IMG_14
 07.jpeg
ATTACH;FILENAME=IMG_1406.jpeg;FMTTYPE=image/jpeg:https://dq5pwpg1q8ru0.clou
 dfront.net/2026/03/14/20/03/39/b5d58738-86fe-48f1-b53d-f3f468a0db16/IMG_14
 06.jpeg
END:VEVENT
END:VCALENDAR
