BEGIN:VCALENDAR
VERSION:2.0
PRODID:icalendar-ruby
CALSCALE:GREGORIAN
METHOD:PUBLISH
BEGIN:VEVENT
DTSTAMP:20260425T162946Z
UID:978-22308@sfdsschool.ca
DTSTART:20260515T150000Z
DTEND:20260515T220000Z
CLASS:PUBLIC
CREATED:20260407T084800
DESCRIPTION:
LAST-MODIFIED:20260407T084800
LOCATION:Grouse Mountain
SUMMARY:Gr. 2 Field Trip
URL;VALUE=URI:https://www.sfdsschool.ca/events/gr-2-field-trip/2026-05-15
ATTACH;FILENAME=IMG_1431.jpeg;FMTTYPE=image/jpeg:https://dq5pwpg1q8ru0.clou
 dfront.net/2026/03/17/18/15/22/eb5ef5a8-ba12-4a05-a75b-9d0d2a12760a/IMG_14
 31.jpeg
ATTACH;FILENAME=IMG_1430.jpeg;FMTTYPE=image/jpeg:https://dq5pwpg1q8ru0.clou
 dfront.net/2026/03/17/18/15/22/16ed7554-adf8-45fd-817b-20b51c9a4463/IMG_14
 30.jpeg
END:VEVENT
END:VCALENDAR
