BEGIN:VCALENDAR
VERSION:2.0
PRODID:icalendar-ruby
CALSCALE:GREGORIAN
METHOD:PUBLISH
BEGIN:VEVENT
DTSTAMP:20260425T164739Z
UID:1020-22290@sfdsschool.ca
DTSTART:20260502T020000Z
DTEND:20260502T043000Z
CLASS:PUBLIC
CREATED:20260317T111117
DESCRIPTION:Confirmands and sponsors are to arrive in the gym at 6:00.
LAST-MODIFIED:20260317T111117
LOCATION:
SUMMARY:Confirmation
URL;VALUE=URI:https://www.sfdsschool.ca/events/confirmation--1020/2026-05-0
 1
ATTACH;FILENAME=IMG_1429.jpeg;FMTTYPE=image/jpeg:https://dq5pwpg1q8ru0.clou
 dfront.net/2026/03/17/18/11/16/359c80b7-eebe-4006-b8eb-a5338838e203/IMG_14
 29.jpeg
END:VEVENT
END:VCALENDAR
