BEGIN:VCALENDAR
VERSION:2.0
PRODID:icalendar-ruby
CALSCALE:GREGORIAN
METHOD:PUBLISH
BEGIN:VEVENT
DTSTAMP:20260420T155540Z
UID:1030-22315@sfdsschool.ca
DTSTART:20260424T160000Z
DTEND:20260424T220000Z
CLASS:PUBLIC
CREATED:20260417T082600
DESCRIPTION:Please click on this link for details. This is open to students
  in grades 1-5.
LAST-MODIFIED:20260417T082600
LOCATION:SFDS Gym
SUMMARY:2-4-1 Sports Camp
URL;VALUE=URI:https://www.sfdsschool.ca/events/2-4-1-sports-camp--1030/2026
 -04-24
END:VEVENT
END:VCALENDAR
